BEGIN:VCALENDAR
VERSION:2.0
PRODID:-//Tukios.com/
BEGIN:VEVENT
UID:0b78d314-19eb-4e66-9f62-b137fae1e46f@www.johnsonfuneralservice.com
DTSTAMP:20260423T194531Z
DTSTART:20260430T220000Z
DTEND:20260430T233000Z
SUMMARY:Visitation
DESCRIPTION:
URL:https://www.johnsonfuneralservice.com/obituaries/gary-arlt
LOCATION:Johnson Funeral Service 420 North Labree Avenue  Thief River 
	Falls MN 56701
GEO:48.1207826;-96.179541
END:VEVENT
END:VCALENDAR