BEGIN:VCALENDAR
VERSION:2.0
PRODID:-//Tukios.com/
BEGIN:VEVENT
UID:f8e21af3-c802-49ba-a508-ed1052f5c13c@www.johnsonfuneralservice.com
DTSTAMP:20260423T194643Z
DTSTART:20260430T233000Z
DTEND:20260501T003000Z
SUMMARY:Prayer Service
DESCRIPTION:
URL:https://www.johnsonfuneralservice.com/obituaries/gary-arlt
LOCATION:Johnson Funeral Service 420 North Labree Avenue  Thief River 
	Falls MN 56701
GEO:48.1207826;-96.179541
END:VEVENT
END:VCALENDAR