BEGIN:VCALENDAR
VERSION:2.0
PRODID:-//Tukios.com/
BEGIN:VEVENT
UID:506ae500-fe10-4fa6-80a7-2c8b81bdbaf1@www.johnsonfuneralservice.com
DTSTAMP:20260423T195415Z
DTSTART:20260501T160000Z
DTEND:20260501T170000Z
SUMMARY:Funeral Service
DESCRIPTION:
URL:https://www.johnsonfuneralservice.com/obituaries/gary-arlt
LOCATION:Johnson Funeral Service 420 North Labree Avenue  Thief River 
	Falls MN 56701
GEO:48.1207826;-96.179541
END:VEVENT
END:VCALENDAR