BEGIN:VCALENDAR
VERSION:2.0
PRODID:-//Tukios.com/
BEGIN:VEVENT
UID:c6bb688d-4cba-4b51-a227-1c691f9b7c8e@www.johnsonfuneralservice.com
DTSTAMP:20260422T091614Z
DTSTART:20260425T180000Z
DTEND:20260425T190000Z
SUMMARY:Visitation
DESCRIPTION:
URL:https://www.johnsonfuneralservice.com/obituaries/gerald-jerry-wigness
LOCATION: 325 Horace Avenue North  Thief River Falls MN 56701
GEO:48.1198988;-96.1788755
END:VEVENT
END:VCALENDAR