BEGIN:VCALENDAR
VERSION:2.0
PRODID:-//Tukios.com/
BEGIN:VEVENT
UID:91d4461b-0145-49d2-8af0-f187276beb23@www.johnsonfuneralservice.com
DTSTAMP:20260422T193135Z
DTSTART:20260430T180000Z
DTEND:20260430T190000Z
SUMMARY:Graveside Service
DESCRIPTION:Lunch and fellowship at St. Josephs Catholic Church to follow 
	the graveside service.
URL:https://www.johnsonfuneralservice.com/obituaries/larry-kruse-2026
LOCATION:St. Joseph's Catholic Cemetery County Road 1 and County Road 109 
	 Red Lake Falls MN 56751
GEO:47.8829245;-96.2258756
END:VEVENT
END:VCALENDAR